BEGIN:VCALENDAR
VERSION:2.0
PRODID:-//Schematherapie Wien - ECPv5.7.0//NONSGML v1.0//EN
CALSCALE:GREGORIAN
METHOD:PUBLISH
X-WR-CALNAME:Schematherapie Wien
X-ORIGINAL-URL:https://www.schematherapie-wien.at
X-WR-CALDESC:Veranstaltungen für Schematherapie Wien
BEGIN:VTIMEZONE
TZID:Europe/Vienna
BEGIN:DAYLIGHT
TZOFFSETFROM:+0100
TZOFFSETTO:+0200
TZNAME:CEST
DTSTART:20260329T010000
END:DAYLIGHT
BEGIN:STANDARD
TZOFFSETFROM:+0200
TZOFFSETTO:+0100
TZNAME:CET
DTSTART:20261025T010000
END:STANDARD
END:VTIMEZONE
BEGIN:VEVENT
DTSTART;VALUE=DATE:20261002
DTEND;VALUE=DATE:20261004
DTSTAMP:20260423T175028
CREATED:20201115T082754Z
LAST-MODIFIED:20260225T210212Z
UID:11800-1790899200-1791071999@www.schematherapie-wien.at
SUMMARY:Schematherapie mit Paaren - Kurs Paare 1 VORSCHAU
DESCRIPTION:  \n \n \nVORSCHAU \n\n\n\n\n\n\nDr. Alexandra Schosser
URL:https://www.schematherapie-wien.at/event/st-paare/
LOCATION:Therapiezentrum Borschkegasse\, Borschkegasse 15/15\, Wien\, 1090
CATEGORIES:16. Curriculum Schematherapie Basiskurs,Vertiefungsseminar
END:VEVENT
END:VCALENDAR