BEGIN:VCALENDAR
VERSION:2.0
PRODID:-//Schematherapie Wien - ECPv5.7.0//NONSGML v1.0//EN
CALSCALE:GREGORIAN
METHOD:PUBLISH
X-WR-CALNAME:Schematherapie Wien
X-ORIGINAL-URL:https://www.schematherapie-wien.at
X-WR-CALDESC:Veranstaltungen für Schematherapie Wien
BEGIN:VTIMEZONE
TZID:Europe/Vienna
BEGIN:DAYLIGHT
TZOFFSETFROM:+0100
TZOFFSETTO:+0200
TZNAME:CEST
DTSTART:20210328T010000
END:DAYLIGHT
BEGIN:STANDARD
TZOFFSETFROM:+0200
TZOFFSETTO:+0100
TZNAME:CET
DTSTART:20211031T010000
END:STANDARD
END:VTIMEZONE
BEGIN:VEVENT
DTSTART;VALUE=DATE:20210409
DTEND;VALUE=DATE:20210411
DTSTAMP:20260420T004638
CREATED:20200830T090713Z
LAST-MODIFIED:20201119T110528Z
UID:11008-1617926400-1618099199@www.schematherapie-wien.at
SUMMARY:Curriculum Schematherapie mit Kindern und Jugendlichen in Wien / WS3: Schema-Coaching für Eltern
DESCRIPTION:WS 3: Schemacoaching bei Eltern\nDer Workshop baut auf WS 1 und WS 2 auf. Das Ziel dieses Workshops ist es\, die Techniken der Schematherapie mit Kindern und Jugendlichen konkret zu erlernen. \nNach einer kurzen Anknüpfung an die schematheoretische Einführung und dem Austausch über erste Erfahrungen in der Praxis (WS 1 und WS 2) sollen die Besonderheiten in der Beziehungsgestaltung mit der Balance von wertschätzendem „Limited Reparenting“ und empathischer Konfrontation sowie die praktische Arbeit mit den speziellen schematherapeutischen Techniken im Mittelpunkt stehen. \nDie auf Eltern bezogene Modusarbeit mit Stühlen\, Finger¬puppen\, Imaginationsarbeit\, Erstellung von Schema- und Modus-Memos\, Innere Dialoge und die Arbeit mit dem Schema- bzw. Modus-Tagebuch werden ebenfalls durchgeführt. \nEin wichtiger Teil ist auch die Selbsterfahrung der Therapeuten: Hierzu wird auf freiwilliger Basis eine Schema- und Modusdiagnostik angeboten\, die anonym durchgeführt wird. Die Ergebnisse eines jeden Therapeuten können dann auf Wunsch in der Kleingruppenarbeit verwendet werden\, um eigene „emotionale Knöpfe“ und Verletzbarkeiten in der therapeutischen Arbeit mit Kindern und deren Eltern bewusst zu machen. \nVideo-Beispiele und Rollenspiele im Paar- oder Dreiergruppen-Setting sorgen für die Festigung und Vertiefung des Gelernten. Im Einzelnen sind folgende Inhalte und Methoden geplant: \no Schema-Coaching: Indikation und Ziele (u. a. „Limited Grandparenting“)\no Untersuchung eigener (therapeutischer) Schemata und Modi (mittels Fragebogen) und Integration der Erkenntnisse in schwierige Therapiesituationen\no Untersuchung elterlicher Ressourcen\, Bedürfnisse und Familienstrukturen\no Stuhldialoge mit Eltern\no Edukationshilfen zum Schema- und Moduskonzept\no Typische dysfunktionale Modus-Konstellation zwischen Eltern und Kind\no Korrektur elterlicher Schemata und Modi (u. a. Aufbau positiver Aktivitäten etc.)\no Teufelskreis in der Erziehung in Verbindung mit dem Modus-Konzept\no Modus-Memokarte für Eltern\no Imaginäres Überschreiben \n\n\n\n\n\nDr. Christof Loose
URL:https://www.schematherapie-wien.at/event/curriculum-schematherapie-mit-kindern-und-jugendlichen-in-wien-ws3-schema-coaching-fuer-eltern/
LOCATION:online\, Webinar
CATEGORIES:Schematherapie mit Kindern und Jugendlichen,Webinare,Weiterbildung
END:VEVENT
END:VCALENDAR