BEGIN:VCALENDAR
VERSION:2.0
PRODID:-//Schematherapie Wien - ECPv5.7.0//NONSGML v1.0//EN
CALSCALE:GREGORIAN
METHOD:PUBLISH
X-WR-CALNAME:Schematherapie Wien
X-ORIGINAL-URL:https://www.schematherapie-wien.at
X-WR-CALDESC:Veranstaltungen für Schematherapie Wien
BEGIN:VTIMEZONE
TZID:Europe/Vienna
BEGIN:DAYLIGHT
TZOFFSETFROM:+0100
TZOFFSETTO:+0200
TZNAME:CEST
DTSTART:20210328T010000
END:DAYLIGHT
BEGIN:STANDARD
TZOFFSETFROM:+0200
TZOFFSETTO:+0100
TZNAME:CET
DTSTART:20211031T010000
END:STANDARD
END:VTIMEZONE
BEGIN:VEVENT
DTSTART;VALUE=DATE:20210409
DTEND;VALUE=DATE:20210411
DTSTAMP:20260420T063546
CREATED:20191125T205455Z
LAST-MODIFIED:20210304T075001Z
UID:10856-1617926400-1618099199@www.schematherapie-wien.at
SUMMARY:9. ISST Curriculum Schematherapie Basiscurriculum  ST3: Modusmodell und Dialoge auf mehreren Stühlen (14 UE)
DESCRIPTION:In der Therapie lernen die Patienten die Modi zu erkennen und Konflikte durch innere Dialoge aus der Perspektive des „gesunden Erwachsenen“ zu lösen. Eine zentrale Technik dazu sind Dialoge auf mehreren Stühlen\, die der Gestalttherapie entlehnt ist. Dabei übernimmt der Therapeut eine aktiv fördernde Rolle im Sinne einer „begrenzten elterlichen Fürsorge“. \n\n\n\n\n\nDr. Christina Archonti
URL:https://www.schematherapie-wien.at/event/bindung-intimitaet-und-lust-in-der-schematherapie/
LOCATION:online\, Webinar
CATEGORIES:9. Curriculum Schematherapie Basiskurs,COVID,Webinare
END:VEVENT
END:VCALENDAR