BEGIN:VCALENDAR
VERSION:2.0
PRODID:-//Schematherapie Wien - ECPv5.7.0//NONSGML v1.0//EN
CALSCALE:GREGORIAN
METHOD:PUBLISH
X-WR-CALNAME:Schematherapie Wien
X-ORIGINAL-URL:https://www.schematherapie-wien.at
X-WR-CALDESC:Veranstaltungen für Schematherapie Wien
BEGIN:VTIMEZONE
TZID:Europe/Vienna
BEGIN:DAYLIGHT
TZOFFSETFROM:+0100
TZOFFSETTO:+0200
TZNAME:CEST
DTSTART:20250330T010000
END:DAYLIGHT
BEGIN:STANDARD
TZOFFSETFROM:+0200
TZOFFSETTO:+0100
TZNAME:CET
DTSTART:20251026T010000
END:STANDARD
END:VTIMEZONE
BEGIN:VEVENT
DTSTART;VALUE=DATE:20251107
DTEND;VALUE=DATE:20251109
DTSTAMP:20260423T104813
CREATED:20201115T082528Z
LAST-MODIFIED:20250128T183344Z
UID:11741-1762473600-1762646399@www.schematherapie-wien.at
SUMMARY:15. ISST Curriculum Schematherapie Basiscurriculum  ST2: Imaginationsübungen\, Schema-Memo und Tagebuch (14 UE)
DESCRIPTION:Teilnehmende lernen in diesem Workshop grundlegende emotionsaktivierende Imaginationstechniken in der Schematherapie kennen und erlernen das imaginative Überschreiben (Imagery Rescripting)\, eine zentrale Interventionstechnik in der Schematherapie. Das Vorgehen beim Imaginativen Überschreiben wird im Rollenspiel in Kleingruppen eingeübt. Weiters werden kognitive Techniken wie der Umgang mit dem Schema-Modus-Memo und der Einsatz von Modus-Tagebüchern vorgestellt und geübt. \nDozentin: Dr. Alexandra Schosser \n  \n  \nDen TeilnehmerInnen werden laut Psychologengesetz 2013 insgesamt 4 x 14 EH (insgesamt 56 EH)  Fortbildungseinheiten anerkannt! \n\n\n\n\n\n\nDr. Alexandra Schosser
URL:https://www.schematherapie-wien.at/event/15-isst-curriculum-schematherapie-basiscurriculum-st2-imaginationsuebungen-schema-memo-und-tagebuch-14-ue/
LOCATION:Albert Schweitzer Haus\, Schwarzspanierstraße 13\, Wien\, 1090
CATEGORIES:15. Curriculum Schematherapie Basiskurs
END:VEVENT
END:VCALENDAR