BEGIN:VCALENDAR
VERSION:2.0
PRODID:-//Schematherapie Wien - ECPv5.7.0//NONSGML v1.0//EN
CALSCALE:GREGORIAN
METHOD:PUBLISH
X-WR-CALNAME:Schematherapie Wien
X-ORIGINAL-URL:https://www.schematherapie-wien.at
X-WR-CALDESC:Veranstaltungen für Schematherapie Wien
BEGIN:VTIMEZONE
TZID:Europe/Vienna
BEGIN:DAYLIGHT
TZOFFSETFROM:+0100
TZOFFSETTO:+0200
TZNAME:CEST
DTSTART:20230326T010000
END:DAYLIGHT
BEGIN:STANDARD
TZOFFSETFROM:+0200
TZOFFSETTO:+0100
TZNAME:CET
DTSTART:20231029T010000
END:STANDARD
END:VTIMEZONE
BEGIN:VEVENT
DTSTART;VALUE=DATE:20230310
DTEND;VALUE=DATE:20230312
DTSTAMP:20260420T025127
CREATED:20201115T082528Z
LAST-MODIFIED:20230201T093454Z
UID:11640-1678406400-1678579199@www.schematherapie-wien.at
SUMMARY:12. ISST Curriculum Schematherapie Basiscurriculum  ST2: Imaginationsübungen\, Schema-Memo und Tagebuch (14 UE)
DESCRIPTION:In diesem Workshop wird die Schemaaktivierung durch Imaginationen\, die kognitive Neubewertung mittels des Schema-Modus-Memos sowie in die Gestaltung von Verhaltensexperimenten durch Tagebücher erlernt und in Kleingruppen eingeübt. \nDozentin: Dr. Andrea Kucera \n  \n  \nDen TeilnehmerInnen werden laut Psychologengesetz 2013 insgesamt 4 x 14 EH (insgesamt 56 EH)  Fortbildungseinheiten anerkannt! \n\n\n\n\n\n\nDr. Andrea Kucera
URL:https://www.schematherapie-wien.at/event/12-isst-curriculum-schematherapie-basiscurriculum-st2-imaginationsuebungen-schema-memo-und-tagebuch-14-ue/
LOCATION:Albert Schweitzer Haus\, Schwarzspanierstraße 13\, Wien\, 1090
CATEGORIES:12. Curriculum Schematherapie Basiskurs
END:VEVENT
END:VCALENDAR