BEGIN:VCALENDAR
VERSION:2.0
PRODID:-//Schematherapie Wien - ECPv5.7.0//NONSGML v1.0//EN
CALSCALE:GREGORIAN
METHOD:PUBLISH
X-WR-CALNAME:Schematherapie Wien
X-ORIGINAL-URL:https://www.schematherapie-wien.at
X-WR-CALDESC:Veranstaltungen für Schematherapie Wien
BEGIN:VTIMEZONE
TZID:Europe/Vienna
BEGIN:DAYLIGHT
TZOFFSETFROM:+0100
TZOFFSETTO:+0200
TZNAME:CEST
DTSTART:20210328T010000
END:DAYLIGHT
BEGIN:STANDARD
TZOFFSETFROM:+0200
TZOFFSETTO:+0100
TZNAME:CET
DTSTART:20211031T010000
END:STANDARD
END:VTIMEZONE
BEGIN:VEVENT
DTSTART;VALUE=DATE:20210326
DTEND;VALUE=DATE:20210328
DTSTAMP:20260420T064646
CREATED:20201115T082754Z
LAST-MODIFIED:20210318T072724Z
UID:11353-1616716800-1616889599@www.schematherapie-wien.at
SUMMARY:10. ISST Curriculum Schematherapie Basiscurriculum  / ST1: Einführung in das Schema und Modusmodell (14 UE)
DESCRIPTION:In diesem Workshop wird eine Einführung in das Schema- und Modusmodell\, die spezifische Beziehungsgestaltung („begrenzte elterliche Fürsorge“) sowie in die erlebnisaktivierenden Techniken (Imagination und Stühledialoge) gegeben. \n\n\n\n\n\nDr. Alexandra Schosser
URL:https://www.schematherapie-wien.at/event/10-isst-curriculum-schematherapie-basiscurriculum-st1-einfuehrung-in-das-schema-und-modusmodell-14-ue/
LOCATION:online\, Webinar
CATEGORIES:10. Curriculum Schematherapie Basiskurs,COVID
END:VEVENT
END:VCALENDAR